Workbook

Sheet SUMMARY
C1: Project
C2: Date
C3: NO. Of Floors | D3: 2
C4: Building GSF | D4: =SUM(D5:D6) -> 6360
C5: First Floor (SF) | D5: 4095
C6: Second Floor (SF) | D6: 2265
A7: DIVISION # | B7: DESCRIPTION | D7: SUBTOTAL | E7: COST/SF
A8: DIV.01 | B8: General Requirements | D8: =BREAKDOWN!L8 -> 12683 | E8: =+D8/D4 -> 1.9941824
A9: DIV.02 | B9: Demolition/Site Work | D9: =BREAKDOWN!L17 -> 47015.79 | E9: =+D9/D4 -> 7.3924198
A10: DIV.03 | B10: Concrete | D10: =BREAKDOWN!L69 -> 40991.7 | E10: =+D10/D4 -> 6.4452358
A11: DIV.04 | B11: Masonry | D11: =BREAKDOWN!L95 -> 27633.1 | E11: =+D11/D4 -> 4.344827
A12: DIV.05 | B12: Metals | D12: =BREAKDOWN!L110 -> 1576.5 | E12: =+D12/D4 -> 0.24787736
A13: DIV.06 | B13: Wood, Plastics and Composites | D13: =BREAKDOWN!L120 -> 163615.9 | E13: =+D13/D4 -> 25.72577
A14: DIV.07 | B14: Thermal and Moisture Protection | D14: =BREAKDOWN!L192 -> 99561.4 | E14: =+D14/D4 -> 15.654308
A15: DIV.08 | B15: Openings | D15: =BREAKDOWN!L229 -> 33650 | E15: =+D15/D4 -> 5.2908805
A16: DIV.09 | B16: Finishes | D16: =BREAKDOWN!L261 -> 290276.4 | E16: =+D16/D4 -> 45.640943
A17: DIV.10 | B17: Specialties | D17: =BREAKDOWN!L394 -> 24269 | E17: =+D17/D4 -> 3.8158805
A18: DIV.22 | B18: Plumbing | D18: =BREAKDOWN!L423 -> 45363 | E18: =+D18/D4 -> 7.1325472
A19: DIV.23 | B19: HVAC/ Mechanical | D19: =BREAKDOWN!L440 -> 54661 | E19: =+D19/D4 -> 8.5944969
A20: DIV.26 | B20: Electrical | D20: =BREAKDOWN!L449 -> 93485 | E20: =+D20/D4 -> 14.698899
A22: Sub Cost | D22: =SUM(D8:D20) -> 934781.79 | E22: =D22/D4 -> 146.97827
A23: Contingency | C23: 0.07 | D23: =C23*D22 -> 65434.725 | E23: =D23/D4 -> 10.288479
A24: Insurance | C24: 0.03 | D24: =C24*D22 -> 28043.454 | E24: =D24/D4 -> 4.4093481
A25: Overhead & Profit | C25: 0.2 | D25: =C25*D22 -> 186956.36 | E25: =D25/D4 -> 29.395654
A26: TOTAL BASE BID | D26: =SUM(D22:D25) -> 1215216.3 | E26: =D26/D4 -> 191.07175

Sheet BREAKDOWN
A1: MetCon Estimators
K2: Summary | L2: Amount
A3: Project: | J3: Sub Cost | L3: =L491 -> 934781.79
A4: Scope: | B4: Everything | J4: Profit/Overhead | L4: =SUM(L492:L494) -> 280434.54
A5: Date: | K5: Total Bid | L5: =SUM(L3:L4) -> 1215216.3
A7: ITEM # | B7: Drawing # | C7: DESCRIPTION | D7: QTY. | E7: UNIT | F7: WASTAGE | G7: QTY WITH WASTAGE | H7: UNIT LABOR COST | I7: UNIT MAT. COST | J7: UNIT COST (LAB+MAT) | K7: TOTAL ITEM COST | L7: TRADE COST
B8: DIV.01 GENERAL REQUIREMENTS | L8: =SUM(K9:K15) -> 12683
A10: =IF(D10<>"",1+MAX($A$8:A9),"") -> 1 | C10: Supervision and Coordination | D10: 1 | E10: LS | F10: 0 | G10: =D10*(1+F10) -> 1 | H10: 0 | I10: 0 | J10: =H10+I10 -> 0 | K10: =J10*G10 -> 0
A11: =IF(D11<>"",1+MAX($A$8:A10),"") -> 2 | C11: Submittals and Shop drawings | D11: 1 | E11: LS | F11: 0 | G11: =D11*(1+F11) -> 1 | H11: 0 | I11: 0 | J11: =H11+I11 -> 0 | K11: =J11*G11 -> 0
A12: =IF(D12<>"",1+MAX($A$8:A11),"") -> 3 | C12: Final Cleaning | D12: 1 | E12: LS | F12: 0 | G12: =D12*(1+F12) -> 1 | H12: 0 | I12: 0 | J12: =H12+I12 -> 0 | K12: =J12*G12 -> 0
A13: =IF(D13<>"",1+MAX($A$8:A12),"") -> 4 | C13: Mobilization Costs | D13: 1 | E13: LS | F13: 0 | G13: =D13*(1+F13) -> 1 | H13: 0 | I13: 0 | J13: =H13+I13 -> 0 | K13: =J13*G13 -> 0
A14: =IF(D14<>"",1+MAX($A$8:A13),"") -> 5 | C14: Temporary Control & Facilities | D14: 1 | E14: LS | F14: 0 | G14: =D14*(1+F14) -> 1 | H14: 0 | I14: 0 | J14: =H14+I14 -> 0 | K14: =J14*G14 -> 0
A15: =IF(D15<>"",1+MAX($A$8:A14),"") -> 6 | C15: Scaffolding | D15: 5765 | E15: SF | F15: =IF(D15=0,"",0) -> 0 | G15: =IF(D15="","",D15+(D15*F15)) -> 5765 | H15: 2.2 | I15: 0 | J15: =H15+I15 -> 2.2 | K15: =J15*G15 -> 12683
A16: =IF(D16<>"",1+MAX($A$8:A15),"")
A17: =IF(D17<>"",1+MAX($A$8:A16),"") | B17: DIV.02 EXISTING CONDITIONS/SITE WORK | L17: =SUM(K18:K67) -> 47015.79
A18: =IF(D18<>"",1+MAX($A$8:A17),"")
A19: =IF(D19<>"",1+MAX($A$8:A18),"") | B19: A1.03 A1.04 A1.05 A1.06 | C19: Demolition
A20: =IF(D20<>"",1+MAX($A$8:A19),"") -> 7 | C20: Remove Floor Finishes | D20: 1452 | E20: SF | F20: =IF(D20=0,"",0) -> 0 | G20: =IF(D20="","",D20+(D20*F20)) -> 1452 | H20: 1.45 | I20: 0 | J20: =H20+I20 -> 1.45 | K20: =J20*G20 -> 2105.4
A21: =IF(D21<>"",1+MAX($A$8:A20),"") -> 8 | C21: Remove Tile Flooring | D21: 98 | E21: SF | F21: =IF(D21=0,"",0) -> 0 | G21: =IF(D21="","",D21+(D21*F21)) -> 98 | H21: 2 | I21: 0 | J21: =H21+I21 -> 2 | K21: =J21*G21 -> 196
A22: =IF(D22<>"",1+MAX($A$8:A21),"") -> 9 | C22: Patch & Repair @ Floor | D22: 1550 | E22: SF | F22: =IF(D22=0,"",0) -> 0 | G22: =IF(D22="","",D22+(D22*F22)) -> 1550 | H22: 1.6 | I22: 0 | J22: =H22+I22 -> 1.6 | K22: =J22*G22 -> 2480
A23: =IF(D23<>"",1+MAX($A$8:A22),"") -> 10 | C23: Remove Ceiling | D23: 1583 | E23: SF | F23: =IF(D23=0,"",0) -> 0 | G23: =IF(D23="","",D23+(D23*F23)) -> 1583 | H23: 1.5 | I23: 0 | J23: =H23+I23 -> 1.5 | K23: =J23*G23 -> 2374.5
A24: =IF(D24<>"",1+MAX($A$8:A23),"") -> 11 | C24: Remove Electrical Wiring & Lighting Fixtures | D24: 1583 | E24: SF | F24: =IF(D24=0,"",0) -> 0 | G24: =IF(D24="","",D24+(D24*F24)) -> 1583 | H24: 1.35 | I24: 0 | J24: =H24+I24 -> 1.35 | K24: =J24*G24 -> 2137.05
A25: =IF(D25<>"",1+MAX($A$8:A24),"") -> 12 | C25: Remove Countertop | D25: 71 | E25: SF | F25: =IF(D25=0,"",0) -> 0 | G25: =IF(D25="","",D25+(D25*F25)) -> 71 | H25: 16.5 | I25: 0 | J25: =H25+I25 -> 16.5 | K25: =J25*G25 -> 1171.5
A26: =IF(D26<>"",1+MAX($A$8:A25),"") -> 13 | C26: Remove Walls | D26: 1066 | E26: SF | F26: =IF(D26=0,"",0) -> 0 | G26: =IF(D26="","",D26+(D26*F26)) -> 1066 | H26: 1.35 | I26: 0 | J26: =H26+I26 -> 1.35 | K26: =J26*G26 -> 1439.1
A27: =IF(D27<>"",1+MAX($A$8:A26),"") -> 14 | C27: Remove Wing Wall | D27: 24 | E27: SF | F27: =IF(D27=0,"",0) -> 0 | G27: =IF(D27="","",D27+(D27*F27)) -> 24 | H27: 1.55 | I27: 0 | J27: =H27+I27 -> 1.55 | K27: =J27*G27 -> 37.2
A28: =IF(D28<>"",1+MAX($A$8:A27),"") -> 15 | C28: Remove Wall Finishes | D28: 1128 | E28: SF | F28: =IF(D28=0,"",0) -> 0 | G28: =IF(D28="","",D28+(D28*F28)) -> 1128 | H28: 0.9 | I28: 0 | J28: =H28+I28 -> 0.9 | K28: =J28*G28 -> 1015.2
A29: =IF(D29<>"",1+MAX($A$8:A28),"") -> 16 | C29: Remove Wall Tiles | D29: 232 | E29: SF | F29: =IF(D29=0,"",0) -> 0 | G29: =IF(D29="","",D29+(D29*F29)) -> 232 | H29: 1.5 | I29: 0 | J29: =H29+I29 -> 1.5 | K29: =J29*G29 -> 348
A30: =IF(D30<>"",1+MAX($A$8:A29),"") -> 17 | C30: Patch & Repair @ Wall | D30: 1360 | E30: SF | F30: =IF(D30=0,"",0) -> 0 | G30: =IF(D30="","",D30+(D30*F30)) -> 1360 | H30: 1.65 | I30: 0 | J30: =H30+I30 -> 1.65 | K30: =J30*G30 -> 2244
A31: =IF(D31<>"",1+MAX($A$8:A30),"") -> 18 | C31: Remove Wall Gypsum Board | D31: 208 | E31: SF | F31: =IF(D31=0,"",0) -> 0 | G31: =IF(D31="","",D31+(D31*F31)) -> 208 | H31: 1 | I31: 0 | J31: =H31+I31 -> 1 | K31: =J31*G31 -> 208
... A60: =IF(D60<>"",1+MAX($A$8:A59),"") -> 47 | C60: Remove Louver | D60: 2 | E60: EA | F60: =IF(D60=0,"",0) -> 0 | G60: =IF(D60="","",D60+(D60*F60)) -> 2 | H60: 100 | I60: 0 | J60: =H60+I60 -> 100 | K60: =J60*G60 -> 200
A61: =IF(D61<>"",1+MAX($A$8:A60),"") | C61: Excavation
A62: =IF(D62<>"",1+MAX($A$8:A61),"") -> 48 | C62: Excavation @ Footing | D62: 16.12 | E62: CY | F62: =IF(D62=0,"",0) -> 0 | G62: =IF(D62="","",D62+(D62*F62)) -> 16.12 | H62: 45 | I62: 0 | J62: =H62+I62 -> 45 | K62: =J62*G62 -> 725.4
A63: =IF(D63<>"",1+MAX($A$8:A62),"") -> 49 | C63: Well-Compacted Clean Termite Treated Fill | D63: 2512 | E63: SF | F63: =IF(D63=0,"",0) -> 0 | G63: =IF(D63="","",D63+(D63*F63)) -> 2512 | H63: 2.5 | I63: 0 | J63: =H63+I63 -> 2.5 | K63: =J63*G63 -> 6280
A64: =IF(D64<>"",1+MAX($A$8:A63),"") | C64: Trenching
A65: =IF(D65<>"",1+MAX($A$8:A64),"") -> 50 | C65: Trenching @ Waste Pipe | D65: 7.5 | E65: CY | F65: =IF(D65=0,"",0) -> 0 | G65: =IF(D65="","",D65+(D65*F65)) -> 7.5 | H65: 20 | I65: 0 | J65: =H65+I65 -> 20 | K65: =J65*G65 -> 150
A66: =IF(D66<>"",1+MAX($A$8:A65),"") -> 51 | C66: Sand Backfill | D66: 6.8 | E66: CY | F66: =IF(D66=0,"",0) -> 0 | G66: =IF(D66="","",D66+(D66*F66)) -> 6.8 | H66: 18 | I66: 0 | J66: =H66+I66 -> 18 | K66: =J66*G66 -> 122.4
A67: =IF(D67<>"",1+MAX($A$8:A66),"") -> 52 | C67: New Waste Pipe - Size Not Given | D67: 31 | E67: LF | F67: =IF(D67=0,"",0) -> 0 | G67: =IF(D67="","",D67+(D67*F67)) -> 31 | H67: 45 | I67: 0 | J67: =H67+I67 -> 45 | K67: =J67*G67 -> 1395
A68: =IF(D68<>"",1+MAX($A$8:A67),"")
A69: =IF(D69<>"",1+MAX($A$8:A68),"") | B69: DIV.03 CONCRETE | L69: =SUM(K70:K93) -> 40991.7
A70: =IF(D70<>"",1+MAX($A$8:A69),"")
A71: =IF(D71<>"",1+MAX($A$8:A70),"") | B71: A1.06 A1.09 | C71: Foundation
A72: =IF(D72<>"",1+MAX($A$8:A71),"") | C72: Isolated Footing
A73: =IF(D73<>"",1+MAX($A$8:A72),"") -> 53 | C73: (42"x42"x16") Concrete Pad Footing w/ (4) #5 Rebar Each Way On Chairs, Min 3" Cover (7 EA) | D73: 4.12 | E73: CY | F73: =IF(D73=0,"",0) -> 0 | G73: =IF(D73="","",D73+(D73*F73)) -> 4.12 | H73: 635 | I73: 0 | J73: =H73+I73 -> 635 | K73: =J73*G73 -> 2616.2
A74: =IF(D74<>"",1+MAX($A$8:A73),"") -> 54 | C74: (24"x24"x14") Concrete Pad Footing w/ (3) #5 Rebar Each Way On Chairs, Min 3" Cover (6 EA) | D74: 1.03 | E74: CY | F74: =IF(D74=0,"",0) -> 0 | G74: =IF(D74="","",D74+(D74*F74)) -> 1.03 | H74: 635 | I74: 0 | J74: =H74+I74 -> 635 | K74: =J74*G74 -> 654.05
A75: =IF(D75<>"",1+MAX($A$8:A74),"") | C75: Continuous Footing
A76: =IF(D76<>"",1+MAX($A$8:A75),"") -> 55 | C76: (12" W x 4" D) Porch Footing w/ (1) #5 Rebar On Chair, 3" Min Cover (93 LF) | D76: 1.13 | E76: CY | F76: =IF(D76=0,"",0) -> 0 | G76: =IF(D76="","",D76+(D76*F76)) -> 1.13 | H76: 635 | I76: 0 | J76: =H76+I76 -> 635 | K76: =J76*G76 -> 717.55
A77: =IF(D77<>"",1+MAX($A$8:A76),"") -> 56 | C77: (16" W x 8" D) 1-Story Footing w/ (2) #5 Rebar On Chairs, 3" Min Cover (83 LF) | D77: 2.73 | E77: CY | F77: =IF(D77=0,"",0) -> 0 | G77: =IF(D77="","",D77+(D77*F77)) -> 2.73 | H77: 635 | I77: 0 | J77: =H77+I77 -> 635 | K77: =J77*G77 -> 1733.55
A78: =IF(D78<>"",1+MAX($A$8:A77),"") -> 57 | C78: (20" W x 10" D) 2- Story Footing w/ (3) #5 Rebar On Chair, 3" Min Cover (110 LF) | D78: 5.65 | E78: CY | F78: =IF(D78=0,"",0) -> 0 | G78: =IF(D78="","",D78+(D78*F78)) -> 5.65 | H78: 635 | I78: 0 | J78: =H78+I78 -> 635 | K78: =J78*G78 -> 3587.75
A79: =IF(D79<>"",1+MAX($A$8:A78),"") | C79: Slab
A80: =IF(D80<>"",1+MAX($A$8:A79),"") -> 58 | C80: (4" Thick) Concrete Slab Reinforced w/ (6"x6") #10/10 WWM Or Fiber mesh (31 CY) | D80: 2512 | E80: SF | F80: =IF(D80=0,"",0) -> 0 | G80: =IF(D80="","",D80+(D80*F80)) -> 2512 | H80: 9.5 | I80: 0 | J80: =H80+I80 -> 9.5 | K80: =J80*G80 -> 23864
A81: =IF(D81<>"",1+MAX($A$8:A80),"") | C81: Pad
A82: =IF(D82<>"",1+MAX($A$8:A81),"") -> 59 | C82: (4" Thick) Concrete w/ #3 Rebar Each Way (0.7 CY) | D82: 63 | E82: SF | F82: =IF(D82=0,"",0) -> 0 | G82: =IF(D82="","",D82+(D82*F82)) -> 63 | H82: 9.5 | I82: 0 | J82: =H82+I82 -> 9.5 | K82: =J82*G82 -> 598.5
A83: =IF(D83<>"",1+MAX($A$8:A82),"") -> 60 | C83: (6" Thick) Concrete Pad @ Condensing Unit (0.46 CY) | D83: 25 | E83: SF | F83: =IF(D83=0,"",0) -> 0 | G83: =IF(D83="","",D83+(D83*F83)) -> 25 | H83: 10.2 | I83: 0 | J83: =H83+I83 -> 10.2 | K83: =J83*G83 -> 255
A84: =IF(D84<>"",1+MAX($A$8:A83),"") -> 61 | C84: Concrete Pad (Thickness Not Given) | D84: 43 | E84: SF | F84: =IF(D84=0,"",0) -> 0 | G84: =IF(D84="","",D84+(D84*F84)) -> 43 | H84: 10.2 | I84: 0 | J84: =H84+I84 -> 10.2 | K84: =J84*G84 -> 438.6
A85: =IF(D85<>"",1+MAX($A$8:A84),"") | C85: First Floor
A86: =IF(D86<>"",1+MAX($A$8:A85),"") | C86: Pre-Cast Lintel
A87: =IF(D87<>"",1+MAX($A$8:A86),"") -> 62 | C87: Pre Cast Crete Lintel Type: 8F16-0B/1T | D87: 23 | E87: LF | F87: =IF(D87=0,"",0) -> 0 | G87: =IF(D87="","",D87+(D87*F87)) -> 23 | H87: 26.5 | I87: 0 | J87: =H87+I87 -> 26.5 | K87: =J87*G87 -> 609.5
A88: =IF(D88<>"",1+MAX($A$8:A87),"") -> 63 | C88: Pre Cast Crete Lintel Type: 8F16-1B/1T | D88: 60 | E88: LF | F88: =IF(D88=0,"",0) -> 0 | G88: =IF(D88="","",D88+(D88*F88)) -> 60 | H88: 26.5 | I88: 0 | J88: =H88+I88 -> 26.5 | K88: =J88*G88 -> 1590
A89: =IF(D89<>"",1+MAX($A$8:A88),"") -> 64 | C89: Pre Cast Crete Lintel Type: 8FR16-1B/1T | D89: 23 | E89: LF | F89: =IF(D89=0,"",0) -> 0 | G89: =IF(D89="","",D89+(D89*F89)) -> 23 | H89: 26.5 | I89: 0 | J89: =H89+I89 -> 26.5 | K89: =J89*G89 -> 609.5
A90: =IF(D90<>"",1+MAX($A$8:A89),"") -> 65 | C90: Cast Crete Lintel Type: 8FR14-1B/1T | D90: 52 | E90: LF | F90: =IF(D90=0,"",0) -> 0 | G90: =IF(D90="","",D90+(D90*F90)) -> 52 | H90: 26.5 | I90: 0 | J90: =H90+I90 -> 26.5 | K90: =J90*G90 -> 1378
A91: =IF(D91<>"",1+MAX($A$8:A90),"") -> 66 | C91: Cast Crete Lintel Type: 8F16-2B/2T | D91: 48 | E91: LF | F91: =IF(D91=0,"",0) -> 0 | G91: =IF(D91="","",D91+(D91*F91)) -> 48 | H91: 26.5 | I91: 0 | J91: =H91+I91 -> 26.5 | K91: =J91*G91 -> 1272
A92: =IF(D92<>"",1+MAX($A$8:A91),"") | C92: Sill
A93: =IF(D93<>"",1+MAX($A$8:A92),"") -> 67 | C93: Pre-Cast Window Sill | D93: 61 | E93: LF | F93: =IF(D93=0,"",0) -> 0 | G93: =IF(D93="","",D93+(D93*F93)) -> 61 | H93: 17.5 | I93: 0 | J93: =H93+I93 -> 17.5 | K93: =J93*G93 -> 1067.5
A94: =IF(D94<>"",1+MAX($A$8:A93),"")
A95: =IF(D95<>"",1+MAX($A$8:A94),"") | B95: DIV.04 MASONRY | L95: =SUM(K96:K108) -> 27633.1
A96: =IF(D96<>"",1+MAX($A$8:A95),"")
A97: =IF(D97<>"",1+MAX($A$8:A96),"") | B97: A1.06 A1.11 A1.12 | C97: CMU
A98: =IF(D98<>"",1+MAX($A$8:A97),"") | C98: Foundation
A99: =IF(D99<>"",1+MAX($A$8:A98),"") -> 68 | C99: CMU Stem Wall (1'-10" H) (193 LF) | D99: 354 | E99: SF | F99: =IF(D99=0,"",0) -> 0 | G99: =IF(D99="","",D99+(D99*F99)) -> 354 | H99: 14.5 | I99: 0 | J99: =H99+I99 -> 14.5 | K99: =J99*G99 -> 5133
A100: =IF(D100<>"",1+MAX($A$8:A99),"") | C100: First Floor
A101: =IF(D101<>"",1+MAX($A$8:A100),"") | C101: Wall
A102: =IF(D102<>"",1+MAX($A$8:A101),"") -> 69 | C102: (8" Thick) CMU Bulkhead (48' LF , 1'-4" H) | D102: 64 | E102: SF | F102: =IF(D102=0,"",0) -> 0 | G102: =IF(D102="","",D102+(D102*F102)) -> 64 | H102: 14.5 | I102: 0 | J102: =H102+I102 -> 14.5 | K102: =J102*G102 -> 928
A103: =IF(D103<>"",1+MAX($A$8:A102),"") -> 70 | C103: (8" Thick) CMU Wall (122' LF , 9'-4" H) | D103: 1223 | E103: SF | F103: =IF(D103=0,"",0) -> 0 | G103: =IF(D103="","",D103+(D103*F103)) -> 1223 | H103: 14.5 | I103: 0 | J103: =H103+I103 -> 14.5 | K103: =J103*G103 -> 17733.5
A104: =IF(D104<>"",1+MAX($A$8:A103),"") | C104: Column
A105: =IF(D105<>"",1+MAX($A$8:A104),"") -> 71 | C105: (1'-4"x1'-4") CMU Column (9'-8" H) | D105: 11 | E105: EA | F105: =IF(D105=0,"",0) -> 0 | G105: =IF(D105="","",D105+(D105*F105)) -> 11 | H105: 225.8 | I105: 0 | J105: =H105+I105 -> 225.8 | K105: =J105*G105 -> 2483.8
A106: =IF(D106<>"",1+MAX($A$8:A105),"") | C106: Second Floor
A107: =IF(D107<>"",1+MAX($A$8:A106),"") | C107: Column
A108: =IF(D108<>"",1+MAX($A$8:A107),"") -> 72 | C108: (1'-4"x1'-4") CMU Column (8'-6" H) | D108: 6 | E108: EA | F108: =IF(D108=0,"",0) -> 0 | G108: =IF(D108="","",D108+(D108*F108)) -> 6 | H108: 225.8 | I108: 0 | J108: =H108+I108 -> 225.8 | K108: =J108*G108 -> 1354.8
A109: =IF(D109<>"",1+MAX($A$8:A108),"")
A110: =IF(D110<>"",1+MAX($A$8:A109),"") | B110: DIV.05 METALS | L110: =SUM(K111:K118) -> 1576.5
A111: =IF(D111<>"",1+MAX($A$8:A110),"")
A112: =IF(D112<>"",1+MAX($A$8:A111),"") | B112: A1.06 A1.11 | C112: Foundation
A113: =IF(D113<>"",1+MAX($A$8:A112),"") -> 73 | C113: LFG ABU44Z | D113: 2 | E113: EA | F113: =IF(D113=0,"",0) -> 0 | G113: =IF(D113="","",D113+(D113*F113)) -> 2 | H113: 22.5 | I113: 0 | J113: =H113+I113 -> 22.5 | K113: =J113*G113 -> 45
A114: =IF(D114<>"",1+MAX($A$8:A113),"") -> 74 | C114: (1'-0" L) #3 Rebar | D114: 48 | E114: EA | F114: =IF(D114=0,"",0) -> 0 | G114: =IF(D114="","",D114+(D114*F114)) -> 48 | H114: 15 | I114: 0 | J114: =H114+I114 -> 15 | K114: =J114*G114 -> 720
A115: =IF(D115<>"",1+MAX($A$8:A114),"") -> 75 | C115: (1'-0" L) #5 Rebar | D115: 30 | E115: EA | F115: =IF(D115=0,"",0) -> 0 | G115: =IF(D115="","",D115+(D115*F115)) -> 30 | H115: 18 | I115: 0 | J115: =H115+I115 -> 18 | K115: =J115*G115 -> 540
A116: =IF(D116<>"",1+MAX($A$8:A115),"") -> 76 | C116: (1/2"x8") Simpson TITEN HD W/2" Washer | D116: 11 | E116: EA | F116: =IF(D116=0,"",0) -> 0 | G116: =IF(D116="","",D116+(D116*F116)) -> 11 | H116: 16.5 | I116: 0 | J116: =H116+I116 -> 16.5 | K116: =J116*G116 -> 181.5
A117: =IF(D117<>"",1+MAX($A$8:A116),"") | C117: First Floor
A118: =IF(D118<>"",1+MAX($A$8:A117),"") -> 77 | C118: (6" Long) (#5) Rebar @ Existing To New CMU Wall | D118: 10 | E118: EA | F118: =IF(D118=0,"",0) -> 0 | G118: =IF(D118="","",D118+(D118*F118)) -> 10 | H118: 9 | I118: 0 | J118: =H118+I118 -> 9 | K118: =J118*G118 -> 90
A119: =IF(D119<>"",1+MAX($A$8:A118),"")
A120: =IF(D120<>"",1+MAX($A$8:A119),"") | B120: DIV.06 WOOD, PLASTICS AND COMPOSITES | L120: =SUM(K121:K190) -> 163615.9
A121: =IF(D121<>"",1+MAX($A$8:A120),"")
A122: =IF(D122<>"",1+MAX($A$8:A121),"") | B122: A1.11 A1.13 A1.17 A1.18 | C122: First Floor
A123: =IF(D123<>"",1+MAX($A$8:A122),"") | C123: Header
A124: =IF(D124<>"",1+MAX($A$8:A123),"") -> 78 | C124: (2x6) Door Header | D124: 132 | E124: LF | F124: =IF(D124=0,"",0) -> 0 | G124: =IF(D124="","",D124+(D124*F124)) -> 132 | H124: 7.5 | I124: 0 | J124: =H124+I124 -> 7.5 | K124: =J124*G124 -> 990
A125: =IF(D125<>"",1+MAX($A$8:A124),"") | C125: Wood Post
A126: =IF(D126<>"",1+MAX($A$8:A125),"") -> 79 | C126: (4x4) Wood Post (2 EA) | D126: 17 | E126: LF | F126: =IF(D126=0,"",0) -> 0 | G126: =IF(D126="","",D126+(D126*F126)) -> 17 | H126: 18.5 | I126: 0 | J126: =H126+I126 -> 18.5 | K126: =J126*G126 -> 314.5
A127: =IF(D127<>"",1+MAX($A$8:A126),"") | C127: Sill Plate
A128: =IF(D128<>"",1+MAX($A$8:A127),"") -> 80 | C128: (2x) Sill Plate | D128: 30 | E128: LF | F128: =IF(D128=0,"",0) -> 0 | G128: =IF(D128="","",D128+(D128*F128)) -> 30 | H128: 8.5 | I128: 0 | J128: =H128+I128 -> 8.5 | K128: =J128*G128 -> 255
A129: =IF(D129<>"",1+MAX($A$8:A128),"") -> 81 | C129: (1x4) PT Sill Plate @ Door | D129: 90 | E129: LF | F129: =IF(D129=0,"",0) -> 0 | G129: =IF(D129="","",D129+(D129*F129)) -> 90 | H129: 8 | I129: 0 | J129: =H129+I129 -> 8 | K129: =J129*G129 -> 720
A130: =IF(D130<>"",1+MAX($A$8:A129),"") | C130: Wooden Stair
...
