Workbook

Sheet SUMMARY
C1: Project
C2: Date
C3: NO. Of Floors | D3: 2
C4: Building GSF | D4: =SUM(D5:D6) -> 6360
C5: First Floor (SF) | D5: 4095
C6: Second Floor (SF) | D6: 2265
A7: DIVISION # | B7: DESCRIPTION | D7: SUBTOTAL | E7: COST/SF
A8: DIV.01 | B8: General Requirements | D8: =BREAKDOWN!L8 -> 12683 | E8: =+D8/D4 -> 1.9941824
A9: DIV.02 | B9: Demolition/Site Work | D9: =BREAKDOWN!L17 -> 47015.79 | E9: =+D9/D4 -> 7.3924198
A10: DIV.03 | B10: Concrete | D10: =BREAKDOWN!L69 -> 40991.7 | E10: =+D10/D4 -> 6.4452358
A11: DIV.04 | B11: Masonry | D11: =BREAKDOWN!L95 -> 27633.1 | E11: =+D11/D4 -> 4.344827
A12: DIV.05 | B12: Metals | D12: =BREAKDOWN!L110 -> 1576.5 | E12: =+D12/D4 -> 0.24787736
A13: DIV.06 | B13: Wood, Plastics and Composites | D13: =BREAKDOWN!L120 -> 163615.9 | E13: =+D13/D4 -> 25.72577
A14: DIV.07 | B14: Thermal and Moisture Protection | D14: =BREAKDOWN!L192 -> 99561.4 | E14: =+D14/D4 -> 15.654308
A15: DIV.08 | B15: Openings | D15: =BREAKDOWN!L229 -> 33650 | E15: =+D15/D4 -> 5.2908805
A16: DIV.09 | B16: Finishes | D16: =BREAKDOWN!L261 -> 290276.4 | E16: =+D16/D4 -> 45.640943
A17: DIV.10 | B17: Specialties | D17: =BREAKDOWN!L394 -> 24269 | E17: =+D17/D4 -> 3.8158805
A18: DIV.22 | B18: Plumbing | D18: =BREAKDOWN!L423 -> 45363 | E18: =+D18/D4 -> 7.1325472
A19: DIV.23 | B19: HVAC/ Mechanical | D19: =BREAKDOWN!L440 -> 54661 | E19: =+D19/D4 -> 8.5944969
A20: DIV.26 | B20: Electrical | D20: =BREAKDOWN!L449 -> 93485 | E20: =+D20/D4 -> 14.698899
A22: Sub Cost | D22: =SUM(D8:D20) -> 934781.79 | E22: =D22/D4 -> 146.97827
A23: Contingency | C23: 0.07 | D23: =C23*D22 -> 65434.725 | E23: =D23/D4 -> 10.288479
A24: Insurance | C24: 0.03 | D24: =C24*D22 -> 28043.454 | E24: =D24/D4 -> 4.4093481
A25: Overhead & Profit | C25: 0.2 | D25: =C25*D22 -> 186956.36 | E25: =D25/D4 -> 29.395654
A26: TOTAL BASE BID | D26: =SUM(D22:D25) -> 1215216.3 | E26: =D26/D4 -> 191.07175

Sheet BREAKDOWN
A1: MetCon Estimators
K2: Summary | L2: Amount
A3: Project: | J3: Sub Cost | L3: =L491 -> 934781.79
A4: Scope: | B4: Everything | J4: Profit/Overhead | L4: =SUM(L492:L494) -> 280434.54
A5: Date: | K5: Total Bid | L5: =SUM(L3:L4) -> 1215216.3
A7: ITEM # | B7: Drawing # | C7: DESCRIPTION | D7: QTY. | E7: UNIT | F7: WASTAGE | G7: QTY WITH WASTAGE | H7: UNIT LABOR COST | I7: UNIT MAT. COST | J7: UNIT COST (LAB+MAT) | K7: TOTAL ITEM COST | L7: TRADE COST
B8: DIV.01 GENERAL REQUIREMENTS | L8: =SUM(K9:K15) -> 12683
A10: =IF(D10<>"",1+MAX($A$8:A9),"") -> 1 | C10: Supervision and Coordination | D10: 1 | E10: LS | F10: 0 | G10: =D10*(1+F10) -> 1 | H10: 0 | I10: 0 | J10: =H10+I10 -> 0 | K10: =J10*G10 -> 0
A11: =IF(D11<>"",1+MAX($A$8:A10),"") -> 2 | C11: Submittals and Shop drawings | D11: 1 | E11: LS | F11: 0 | G11: =D11*(1+F11) -> 1 | H11: 0 | I11: 0 | J11: =H11+I11 -> 0 | K11: =J11*G11 -> 0
A12: =IF(D12<>"",1+MAX($A$8:A11),"") -> 3 | C12: Final Cleaning | D12: 1 | E12: LS | F12: 0 | G12: =D12*(1+F12) -> 1 | H12: 0 | I12: 0 | J12: =H12+I12 -> 0 | K12: =J12*G12 -> 0
A13: =IF(D13<>"",1+MAX($A$8:A12),"") -> 4 | C13: Mobilization Costs | D13: 1 | E13: LS | F13: 0 | G13: =D13*(1+F13) -> 1 | H13: 0 | I13: 0 | J13: =H13+I13 -> 0 | K13: =J13*G13 -> 0
A14: =IF(D14<>"",1+MAX($A$8:A13),"") -> 5 | C14: Temporary Control & Facilities | D14: 1 | E14: LS | F14: 0 | G14: =D14*(1+F14) -> 1 | H14: 0 | I14: 0 | J14: =H14+I14 -> 0 | K14: =J14*G14 -> 0
A15: =IF(D15<>"",1+MAX($A$8:A14),"") -> 6 | C15: Scaffolding | D15: 5765 | E15: SF | F15: =IF(D15=0,"",0) -> 0 | G15: =IF(D15="","",D15+(D15*F15)) -> 5765 | H15: 2.2 | I15: 0 | J15: =H15+I15 -> 2.2 | K15: =J15*G15 -> 12683
A16: =IF(D16<>"",1+MAX($A$8:A15),"")
A17: =IF(D17<>"",1+MAX($A$8:A16),"") | B17: DIV.02 EXISTING CONDITIONS/SITE WORK | L17: =SUM(K18:K67) -> 47015.79
A18: =IF(D18<>"",1+MAX($A$8:A17),"")
A19: =IF(D19<>"",1+MAX($A$8:A18),"") | B19: A1.03 A1.04 A1.05 A1.06 | C19: Demolition
A20: =IF(D20<>"",1+MAX($A$8:A19),"") -> 7 | C20: Remove Floor Finishes | D20: 1452 | E20: SF | F20: =IF(D20=0,"",0) -> 0 | G20: =IF(D20="","",D20+(D20*F20)) -> 1452 | H20: 1.45 | I20: 0 | J20: =H20+I20 -> 1.45 | K20: =J20*G20 -> 2105.4
A21: =IF(D21<>"",1+MAX($A$8:A20),"") -> 8 | C21: Remove Tile Flooring | D21: 98 | E21: SF | F21: =IF(D21=0,"",0) -> 0 | G21: =IF(D21="","",D21+(D21*F21)) -> 98 | H21: 2 | I21: 0 | J21: =H21+I21 -> 2 | K21: =J21*G21 -> 196
A22: =IF(D22<>"",1+MAX($A$8:A21),"") -> 9 | C22: Patch & Repair @ Floor | D22: 1550 | E22: SF | F22: =IF(D22=0,"",0) -> 0 | G22: =IF(D22="","",D22+(D22*F22)) -> 1550 | H22: 1.6 | I22: 0 | J22: =H22+I22 -> 1.6 | K22: =J22*G22 -> 2480
A23: =IF(D23<>"",1+MAX($A$8:A22),"") -> 10 | C23: Remove Ceiling | D23: 1583 | E23: SF | F23: =IF(D23=0,"",0) -> 0 | G23: =IF(D23="","",D23+(D23*F23)) -> 1583 | H23: 1.5 | I23: 0 | J23: =H23+I23 -> 1.5 | K23: =J23*G23 -> 2374.5
A24: =IF(D24<>"",1+MAX($A$8:A23),"") -> 11 | C24: Remove Electrical Wiring & Lighting Fixtures | D24: 1583 | E24: SF | F24: =IF(D24=0,"",0) -> 0 | G24: =IF(D24="","",D24+(D24*F24)) -> 1583 | H24: 1.35 | I24: 0 | J24: =H24+I24 -> 1.35 | K24: =J24*G24 -> 2137.05
A25: =IF(D25<>"",1+MAX($A$8:A24),"") -> 12 | C25: Remove Countertop | D25: 71 | E25: SF | F25: =IF(D25=0,"",0) -> 0 | G25: =IF(D25="","",D25+(D25*F25)) -> 71 | H25: 16.5 | I25: 0 | J25: =H25+I25 -> 16.5 | K25: =J25*G25 -> 1171.5
A26: =IF(D26<>"",1+MAX($A$8:A25),"") -> 13 | C26: Remove Walls | D26: 1066 | E26: SF | F26: =IF(D26=0,"",0) -> 0 | G26: =IF(D26="","",D26+(D26*F26)) -> 1066 | H26: 1.35 | I26: 0 | J26: =H26+I26 -> 1.35 | K26: =J26*G26 -> 1439.1
A27: =IF(D27<>"",1+MAX($A$8:A26),"") -> 14 | C27: Remove Wing Wall | D27: 24 | E27: SF | F27: =IF(D27=0,"",0) -> 0 | G27: =IF(D27="","",D27+(D27*F27)) -> 24 | H27: 1.55 | I27: 0 | J27: =H27+I27 -> 1.55 | K27: =J27*G27 -> 37.2
A28: =IF(D28<>"",1+MAX($A$8:A27),"") -> 15 | C28: Remove Wall Finishes | D28: 1128 | E28: SF | F28: =IF(D28=0,"",0) -> 0 | G28: =IF(D28="","",D28+(D28*F28)) -> 1128 | H28: 0.9 | I28: 0 | J28: =H28+I28 -> 0.9 | K28: =J28*G28 -> 1015.2
A29: =IF(D29<>"",1+MAX($A$8:A28),"") -> 16 | C29: Remove Wall Tiles | D29: 232 | E29: SF | F29: =IF(D29=0,"",0) -> 0 | G29: =IF(D29="","",D29+(D29*F29)) -> 232 | H29: 1.5 | I29: 0 | J29: =H29+I29 -> 1.5 | K29: =J29*G29 -> 348
A30: =IF(D30<>"",1+MAX($A$8:A29),"") -> 17 | C30: Patch & Repair @ Wall | D30: 1360 | E30: SF | F30: =IF(D30=0,"",0) -> 0 | G30: =IF(D30="","",D30+(D30*F30)) -> 1360 | H30: 1.65 | I30: 0 | J30: =H30+I30 -> 1.65 | K30: =J30*G30 -> 2244
A31: =IF(D31<>"",1+MAX($A$8:A30),"") -> 18 | C31: Remove Wall Gypsum Board | D31: 208 | E31: SF | F31: =IF(D31=0,"",0) -> 0 | G31: =IF(D31="","",D31+(D31*F31)) -> 208 | H31: 1 | I31: 0 | J31: =H31+I31 -> 1 | K31: =J31*G31 -> 208
... A60: =IF(D60<>"",1+MAX($A$8:A59),"") -> 47 | C60: Remove Louver | D60: 2 | E60: EA | F60: =IF(D60=0,"",0) -> 0 | G60: =IF(D60="","",D60+(D60*F60)) -> 2 | H60: 100 | I60: 0 | J60: =H60+I60 -> 100 | K60: =J60*G60 -> 200
A61: =IF(D61<>"",1+MAX($A$8:A60),"") | C61: Excavation
A62: =IF(D62<>"",1+MAX($A$8:A61),"") -> 48 | C62: Excavation @ Footing | D62: 16.12 | E62: CY | F62: =IF(D62=0,"",0) -> 0 | G62: =IF(D62="","",D62+(D62*F62)) -> 16.12 | H62: 45 | I62: 0 | J62: =H62+I62 -> 45 | K62: =J62*G62 -> 725.4
A63: =IF(D63<>"",1+MAX($A$8:A62),"") -> 49 | C63: Well-Compacted Clean Termite Treated Fill | D63: 2512 | E63: SF | F63: =IF(D63=0,"",0) -> 0 | G63: =IF(D63="","",D63+(D63*F63)) -> 2512 | H63: 2.5 | I63: 0 | J63: =H63+I63 -> 2.5 | K63: =J63*G63 -> 6280
A64: =IF(D64<>"",1+MAX($A$8:A63),"") | C64: Trenching
A65: =IF(D65<>"",1+MAX($A$8:A64),"") -> 50 | C65: Trenching @ Waste Pipe | D65: 7.5 | E65: CY | F65: =IF(D65=0,"",0) -> 0 | G65: =IF(D65="","",D65+(D65*F65)) -> 7.5 | H65: 20 | I65: 0 | J65: =H65+I65 -> 20 | K65: =J65*G65 -> 150
A66: =IF(D66<>"",1+MAX($A$8:A65),"") -> 51 | C66: Sand Backfill | D66: 6.8 | E66: CY | F66: =IF(D66=0,"",0) -> 0 | G66: =IF(D66="","",D66+(D66*F66)) -> 6.8 | H66: 18 | I66: 0 | J66: =H66+I66 -> 18 | K66: =J66*G66 -> 122.4
A67: =IF(D67<>"",1+MAX($A$8:A66),"") -> 52 | C67: New Waste Pipe - Size Not Given | D67: 31 | E67: LF | F67: =IF(D67=0,"",0) -> 0 | G67: =IF(D67="","",D67+(D67*F67)) -> 31 | H67: 45 | I67: 0 | J67: =H67+I67 -> 45 | K67: =J67*G67 -> 1395
A68: =IF(D68<>"",1+MAX($A$8:A67),"")
A69: =IF(D69<>"",1+MAX($A$8:A68),"") | B69: DIV.03 CONCRETE | L69: =SUM(K70:K93) -> 40991.7
A70: =IF(D70<>"",1+MAX($A$8:A69),"")
...
